BEGIN:VCALENDAR
VERSION:2.0
PRODID:-//Camp Liberty - ECPv6.15.20//NONSGML v1.0//EN
CALSCALE:GREGORIAN
METHOD:PUBLISH
X-WR-CALNAME:Camp Liberty
X-ORIGINAL-URL:https://camplibertymichigan.org
X-WR-CALDESC:Events for Camp Liberty
REFRESH-INTERVAL;VALUE=DURATION:PT1H
X-Robots-Tag:noindex
X-PUBLISHED-TTL:PT1H
BEGIN:VTIMEZONE
TZID:America/Detroit
BEGIN:DAYLIGHT
TZOFFSETFROM:-0500
TZOFFSETTO:-0400
TZNAME:EDT
DTSTART:20250309T070000
END:DAYLIGHT
BEGIN:STANDARD
TZOFFSETFROM:-0400
TZOFFSETTO:-0500
TZNAME:EST
DTSTART:20251102T060000
END:STANDARD
BEGIN:DAYLIGHT
TZOFFSETFROM:-0500
TZOFFSETTO:-0400
TZNAME:EDT
DTSTART:20260308T070000
END:DAYLIGHT
BEGIN:STANDARD
TZOFFSETFROM:-0400
TZOFFSETTO:-0500
TZNAME:EST
DTSTART:20261101T060000
END:STANDARD
BEGIN:DAYLIGHT
TZOFFSETFROM:-0500
TZOFFSETTO:-0400
TZNAME:EDT
DTSTART:20270314T070000
END:DAYLIGHT
BEGIN:STANDARD
TZOFFSETFROM:-0400
TZOFFSETTO:-0500
TZNAME:EST
DTSTART:20271107T060000
END:STANDARD
END:VTIMEZONE
BEGIN:VEVENT
DTSTART;TZID=America/Detroit:20260620T080000
DTEND;TZID=America/Detroit:20260620T150000
DTSTAMP:20260419T213404
CREATED:20260325T183948Z
LAST-MODIFIED:20260409T201744Z
UID:3482-1781942400-1781967600@camplibertymichigan.org
SUMMARY:Camp Liberty's Summer Fundraiser - Golf Outing/Family Fun Day @ Gauci Golf
DESCRIPTION:Our Summer Fundraiser this year will be a Golf Outing/Family Fun Day @ Gauci Golf in Onsted\, MI. \nWe are currently looking for sponsors.  Contact Melinda Schwyn @ 517-206-8633 or email her @ programs@camplibertymichigan.org. \nClick here for more information and to sign up for golf:  Golf Outing and Family Fun Day 2026.04.09 \nLooking forward to seeing you there!
URL:https://camplibertymichigan.org/event/camp-libertys-summer-fundraiser-golf-outing-family-fun-day-gauci-golf/
LOCATION:gauci golf resort\, 8421 Sports Park Dr\, onsted\, MI
END:VEVENT
END:VCALENDAR