BEGIN:VCALENDAR
VERSION:2.0
PRODID:-//Camp Liberty - ECPv6.15.20//NONSGML v1.0//EN
CALSCALE:GREGORIAN
METHOD:PUBLISH
X-ORIGINAL-URL:https://camplibertymichigan.org
X-WR-CALDESC:Events for Camp Liberty
REFRESH-INTERVAL;VALUE=DURATION:PT1H
X-Robots-Tag:noindex
X-PUBLISHED-TTL:PT1H
BEGIN:VTIMEZONE
TZID:America/Detroit
BEGIN:DAYLIGHT
TZOFFSETFROM:-0500
TZOFFSETTO:-0400
TZNAME:EDT
DTSTART:20250309T070000
END:DAYLIGHT
BEGIN:STANDARD
TZOFFSETFROM:-0400
TZOFFSETTO:-0500
TZNAME:EST
DTSTART:20251102T060000
END:STANDARD
BEGIN:DAYLIGHT
TZOFFSETFROM:-0500
TZOFFSETTO:-0400
TZNAME:EDT
DTSTART:20260308T070000
END:DAYLIGHT
BEGIN:STANDARD
TZOFFSETFROM:-0400
TZOFFSETTO:-0500
TZNAME:EST
DTSTART:20261101T060000
END:STANDARD
BEGIN:DAYLIGHT
TZOFFSETFROM:-0500
TZOFFSETTO:-0400
TZNAME:EDT
DTSTART:20270314T070000
END:DAYLIGHT
BEGIN:STANDARD
TZOFFSETFROM:-0400
TZOFFSETTO:-0500
TZNAME:EST
DTSTART:20271107T060000
END:STANDARD
END:VTIMEZONE
BEGIN:VEVENT
DTSTART;TZID=America/Detroit:20260822T100000
DTEND;TZID=America/Detroit:20260822T150000
DTSTAMP:20260420T031051
CREATED:20260325T185431Z
LAST-MODIFIED:20260325T185431Z
UID:3493-1787392800-1787410800@camplibertymichigan.org
SUMMARY:Camp Liberty's Fall Conservation Day
DESCRIPTION:
URL:https://camplibertymichigan.org/event/camp-libertys-fall-conservation-day/
LOCATION:Camp Liberty\, 7044 Kappler Drive\, Brooklyn\, MI\, 49230
END:VEVENT
BEGIN:VEVENT
DTSTART;VALUE=DATE:20260911
DTEND;VALUE=DATE:20260914
DTSTAMP:20260420T031051
CREATED:20260325T185708Z
LAST-MODIFIED:20260325T185708Z
UID:3495-1789084800-1789343999@camplibertymichigan.org
SUMMARY:Liberty Disabled Veterans and Youth Deer Hunt
DESCRIPTION:Liberty Disabled Veterans and Youth Deer Hunt sponsored by American Legion Post 46\, Ann Arbor\, MI
URL:https://camplibertymichigan.org/event/liberty-disabled-veterans-and-youth-deer-hunt/
LOCATION:Camp Liberty\, 7044 Kappler Drive\, Brooklyn\, MI\, 49230
END:VEVENT
BEGIN:VEVENT
DTSTART;TZID=America/Detroit:20260926T090000
DTEND;TZID=America/Detroit:20260926T150000
DTSTAMP:20260420T031051
CREATED:20260325T185800Z
LAST-MODIFIED:20260325T185800Z
UID:3497-1790413200-1790434800@camplibertymichigan.org
SUMMARY:Fall Festival and 5K Trail Run/Nature Walk
DESCRIPTION:
URL:https://camplibertymichigan.org/event/fall-festival-and-5k-trail-run-nature-walk/
LOCATION:Camp Liberty\, 7044 Kappler Drive\, Brooklyn\, MI\, 49230
END:VEVENT
BEGIN:VEVENT
DTSTART;VALUE=DATE:20261015
DTEND;VALUE=DATE:20261019
DTSTAMP:20260420T031051
CREATED:20260325T185846Z
LAST-MODIFIED:20260325T185846Z
UID:3499-1792022400-1792367999@camplibertymichigan.org
SUMMARY:Independence Disabled Veteran Hunt
DESCRIPTION:
URL:https://camplibertymichigan.org/event/independence-disabled-veteran-hunt/
LOCATION:Camp Liberty\, 7044 Kappler Drive\, Brooklyn\, MI\, 49230
END:VEVENT
BEGIN:VEVENT
DTSTART;VALUE=DATE:20261118
DTEND;VALUE=DATE:20261123
DTSTAMP:20260420T031051
CREATED:20260325T185930Z
LAST-MODIFIED:20260325T185930Z
UID:3501-1794960000-1795391999@camplibertymichigan.org
SUMMARY:Veterans Firearm Deer Season Hunt
DESCRIPTION:
URL:https://camplibertymichigan.org/event/veterans-firearm-deer-season-hunt/
LOCATION:Camp Liberty\, 7044 Kappler Drive\, Brooklyn\, MI\, 49230
END:VEVENT
BEGIN:VEVENT
DTSTART;TZID=America/Detroit:20261205T080000
DTEND;TZID=America/Detroit:20261205T170000
DTSTAMP:20260420T031051
CREATED:20260325T190020Z
LAST-MODIFIED:20260325T190020Z
UID:3503-1796457600-1796490000@camplibertymichigan.org
SUMMARY:Veterans and First Responders Pheasant Hunt
DESCRIPTION:
URL:https://camplibertymichigan.org/event/veterans-and-first-responders-pheasant-hunt/
LOCATION:Camp Liberty\, 7044 Kappler Drive\, Brooklyn\, MI\, 49230
END:VEVENT
END:VCALENDAR