BEGIN:VCALENDAR
VERSION:2.0
PRODID:-//Camp Liberty - ECPv6.15.20//NONSGML v1.0//EN
CALSCALE:GREGORIAN
METHOD:PUBLISH
X-WR-CALNAME:Camp Liberty
X-ORIGINAL-URL:https://camplibertymichigan.org
X-WR-CALDESC:Events for Camp Liberty
REFRESH-INTERVAL;VALUE=DURATION:PT1H
X-Robots-Tag:noindex
X-PUBLISHED-TTL:PT1H
BEGIN:VTIMEZONE
TZID:America/Detroit
BEGIN:DAYLIGHT
TZOFFSETFROM:-0500
TZOFFSETTO:-0400
TZNAME:EDT
DTSTART:20200308T070000
END:DAYLIGHT
BEGIN:STANDARD
TZOFFSETFROM:-0400
TZOFFSETTO:-0500
TZNAME:EST
DTSTART:20201101T060000
END:STANDARD
BEGIN:DAYLIGHT
TZOFFSETFROM:-0500
TZOFFSETTO:-0400
TZNAME:EDT
DTSTART:20210314T070000
END:DAYLIGHT
BEGIN:STANDARD
TZOFFSETFROM:-0400
TZOFFSETTO:-0500
TZNAME:EST
DTSTART:20211107T060000
END:STANDARD
BEGIN:DAYLIGHT
TZOFFSETFROM:-0500
TZOFFSETTO:-0400
TZNAME:EDT
DTSTART:20220313T070000
END:DAYLIGHT
BEGIN:STANDARD
TZOFFSETFROM:-0400
TZOFFSETTO:-0500
TZNAME:EST
DTSTART:20221106T060000
END:STANDARD
END:VTIMEZONE
BEGIN:VTIMEZONE
TZID:America/New_York
BEGIN:DAYLIGHT
TZOFFSETFROM:-0500
TZOFFSETTO:-0400
TZNAME:EDT
DTSTART:20200308T070000
END:DAYLIGHT
BEGIN:STANDARD
TZOFFSETFROM:-0400
TZOFFSETTO:-0500
TZNAME:EST
DTSTART:20201101T060000
END:STANDARD
BEGIN:DAYLIGHT
TZOFFSETFROM:-0500
TZOFFSETTO:-0400
TZNAME:EDT
DTSTART:20210314T070000
END:DAYLIGHT
BEGIN:STANDARD
TZOFFSETFROM:-0400
TZOFFSETTO:-0500
TZNAME:EST
DTSTART:20211107T060000
END:STANDARD
BEGIN:DAYLIGHT
TZOFFSETFROM:-0500
TZOFFSETTO:-0400
TZNAME:EDT
DTSTART:20220313T070000
END:DAYLIGHT
BEGIN:STANDARD
TZOFFSETFROM:-0400
TZOFFSETTO:-0500
TZNAME:EST
DTSTART:20221106T060000
END:STANDARD
END:VTIMEZONE
BEGIN:VEVENT
DTSTART;TZID=America/Detroit:20210921T080000
DTEND;TZID=America/Detroit:20210923T170000
DTSTAMP:20260419T202131
CREATED:20210714T143446Z
LAST-MODIFIED:20210714T143446Z
UID:1980-1632211200-1632416400@camplibertymichigan.org
SUMMARY:VETERAN STAY
DESCRIPTION:VETERAN STAY
URL:https://camplibertymichigan.org/event/veteran-stay/
LOCATION:Michigan
END:VEVENT
BEGIN:VEVENT
DTSTART;TZID=America/Detroit:20210913T080000
DTEND;TZID=America/Detroit:20210920T170000
DTSTAMP:20260419T202131
CREATED:20210907T114214Z
LAST-MODIFIED:20210907T114214Z
UID:2081-1631520000-1632157200@camplibertymichigan.org
SUMMARY:VETERAN STAY CW
DESCRIPTION:
URL:https://camplibertymichigan.org/event/veteran-stay-cw/
LOCATION:Michigan
END:VEVENT
BEGIN:VEVENT
DTSTART;TZID=America/Detroit:20210911T080000
DTEND;TZID=America/Detroit:20210912T170000
DTSTAMP:20260419T202131
CREATED:20210419T125009Z
LAST-MODIFIED:20210419T125014Z
UID:1687-1631347200-1631466000@camplibertymichigan.org
SUMMARY:Liberty Deer Hunt
DESCRIPTION:
URL:https://camplibertymichigan.org/event/liberty-deer-hunt/
LOCATION:Michigan
END:VEVENT
BEGIN:VEVENT
DTSTART;VALUE=DATE:20210910
DTEND;VALUE=DATE:20210911
DTSTAMP:20260419T202131
CREATED:20210907T114108Z
LAST-MODIFIED:20210907T114108Z
UID:2079-1631232000-1631318399@camplibertymichigan.org
SUMMARY:Tour
DESCRIPTION:
URL:https://camplibertymichigan.org/event/tour/
LOCATION:Michigan
END:VEVENT
BEGIN:VEVENT
DTSTART;TZID=America/Detroit:20210903T080000
DTEND;TZID=America/Detroit:20210905T170000
DTSTAMP:20260419T202131
CREATED:20210614T172851Z
LAST-MODIFIED:20210614T172851Z
UID:1922-1630656000-1630861200@camplibertymichigan.org
SUMMARY:EC CAMPING
DESCRIPTION:
URL:https://camplibertymichigan.org/event/ec-camping/
LOCATION:Michigan
END:VEVENT
BEGIN:VEVENT
DTSTART;TZID=America/Detroit:20210901T080000
DTEND;TZID=America/Detroit:20210902T170000
DTSTAMP:20260419T202131
CREATED:20210617T203826Z
LAST-MODIFIED:20210617T203826Z
UID:1928-1630483200-1630602000@camplibertymichigan.org
SUMMARY:EC Camping
DESCRIPTION:
URL:https://camplibertymichigan.org/event/ec-camping-2/
LOCATION:Michigan
END:VEVENT
BEGIN:VEVENT
DTSTART;TZID=America/Detroit:20210828T080000
DTEND;TZID=America/Detroit:20210828T170000
DTSTAMP:20260419T202131
CREATED:20210503T153638Z
LAST-MODIFIED:20210503T153638Z
UID:1718-1630137600-1630170000@camplibertymichigan.org
SUMMARY:Warriors and Care Givers
DESCRIPTION:
URL:https://camplibertymichigan.org/event/warriors-and-care-givers-5/
LOCATION:Michigan
END:VEVENT
BEGIN:VEVENT
DTSTART;TZID=America/Detroit:20210827T080000
DTEND;TZID=America/Detroit:20210828T170000
DTSTAMP:20260419T202131
CREATED:20210715T004632Z
LAST-MODIFIED:20210715T004632Z
UID:1983-1630051200-1630170000@camplibertymichigan.org
SUMMARY:VETERAN STAY
DESCRIPTION:
URL:https://camplibertymichigan.org/event/veteran-stay-2/
LOCATION:Michigan
END:VEVENT
BEGIN:VEVENT
DTSTART;TZID=America/Detroit:20210806T080000
DTEND;TZID=America/Detroit:20210809T170000
DTSTAMP:20260419T202131
CREATED:20210610T205455Z
LAST-MODIFIED:20210610T205455Z
UID:1915-1628236800-1628528400@camplibertymichigan.org
SUMMARY:Military wedding
DESCRIPTION:
URL:https://camplibertymichigan.org/event/military-wedding/
LOCATION:Michigan
END:VEVENT
BEGIN:VEVENT
DTSTART;TZID=America/Detroit:20210805T080000
DTEND;TZID=America/Detroit:20210805T170000
DTSTAMP:20260419T202131
CREATED:20210805T182033Z
LAST-MODIFIED:20210805T182033Z
UID:2025-1628150400-1628182800@camplibertymichigan.org
SUMMARY:
DESCRIPTION:
URL:https://camplibertymichigan.org/event/2025/
LOCATION:Michigan
END:VEVENT
BEGIN:VEVENT
DTSTART;TZID=America/Detroit:20210730T170000
DTEND;TZID=America/Detroit:20210801T090000
DTSTAMP:20260419T202131
CREATED:20210603T133253Z
LAST-MODIFIED:20210603T133253Z
UID:1899-1627664400-1627808400@camplibertymichigan.org
SUMMARY:RESERVED
DESCRIPTION:
URL:https://camplibertymichigan.org/event/reserved-5/
LOCATION:Michigan
END:VEVENT
BEGIN:VEVENT
DTSTART;TZID=America/Detroit:20210723T080000
DTEND;TZID=America/Detroit:20210726T080000
DTSTAMP:20260419T202131
CREATED:20210520T000909Z
LAST-MODIFIED:20210520T001024Z
UID:1754-1627027200-1627286400@camplibertymichigan.org
SUMMARY:RESERVED
DESCRIPTION:
URL:https://camplibertymichigan.org/event/reserved-2/
LOCATION:Michigan
END:VEVENT
BEGIN:VEVENT
DTSTART;TZID=America/Detroit:20210712T080000
DTEND;TZID=America/Detroit:20210714T170000
DTSTAMP:20260419T202131
CREATED:20210610T143520Z
LAST-MODIFIED:20210610T143520Z
UID:1913-1626076800-1626282000@camplibertymichigan.org
SUMMARY:Reserved
DESCRIPTION:
URL:https://camplibertymichigan.org/event/reserved-6/
LOCATION:Michigan
END:VEVENT
BEGIN:VEVENT
DTSTART;TZID=America/Detroit:20210709T080000
DTEND;TZID=America/Detroit:20210712T170000
DTSTAMP:20260419T202131
CREATED:20210529T012504Z
LAST-MODIFIED:20210529T012504Z
UID:1874-1625817600-1626109200@camplibertymichigan.org
SUMMARY:RESERVED
DESCRIPTION:
URL:https://camplibertymichigan.org/event/reserved-3/
LOCATION:Michigan
END:VEVENT
BEGIN:VEVENT
DTSTART;TZID=America/Detroit:20210619T080000
DTEND;TZID=America/Detroit:20210620T170000
DTSTAMP:20260419T202131
CREATED:20210504T231022Z
LAST-MODIFIED:20210504T231022Z
UID:1722-1624089600-1624208400@camplibertymichigan.org
SUMMARY:Warriors And care Givers
DESCRIPTION:
URL:https://camplibertymichigan.org/event/warriors-and-care-givers-6/
LOCATION:Michigan
END:VEVENT
BEGIN:VEVENT
DTSTART;TZID=America/Detroit:20210617T080000
DTEND;TZID=America/Detroit:20210617T170000
DTSTAMP:20260419T202131
CREATED:20210529T012623Z
LAST-MODIFIED:20210529T012623Z
UID:1876-1623916800-1623949200@camplibertymichigan.org
SUMMARY:VCAT
DESCRIPTION:
URL:https://camplibertymichigan.org/event/vcat/
LOCATION:Michigan
END:VEVENT
BEGIN:VEVENT
DTSTART;TZID=America/Detroit:20210612T080000
DTEND;TZID=America/Detroit:20210612T170000
DTSTAMP:20260419T202131
CREATED:20210503T153436Z
LAST-MODIFIED:20210504T230839Z
UID:1714-1623484800-1623517200@camplibertymichigan.org
SUMMARY:Martial Arts
DESCRIPTION:
URL:https://camplibertymichigan.org/event/warriors-and-care-givers-3/
LOCATION:Michigan
END:VEVENT
BEGIN:VEVENT
DTSTART;TZID=America/Detroit:20210604T080000
DTEND;TZID=America/Detroit:20210605T170000
DTSTAMP:20260419T202131
CREATED:20210503T153527Z
LAST-MODIFIED:20210503T153527Z
UID:1716-1622793600-1622912400@camplibertymichigan.org
SUMMARY:Warriors and Care Givers
DESCRIPTION:
URL:https://camplibertymichigan.org/event/warriors-and-care-givers-4/
LOCATION:Michigan
END:VEVENT
BEGIN:VEVENT
DTSTART;TZID=America/Detroit:20210528T080000
DTEND;TZID=America/Detroit:20210528T170000
DTSTAMP:20260419T202131
CREATED:20210529T012750Z
LAST-MODIFIED:20210529T012750Z
UID:1878-1622188800-1622221200@camplibertymichigan.org
SUMMARY:RESERVED
DESCRIPTION:
URL:https://camplibertymichigan.org/event/reserved-4/
LOCATION:Michigan
END:VEVENT
BEGIN:VEVENT
DTSTART;TZID=America/Detroit:20210515T080000
DTEND;TZID=America/Detroit:20210516T170000
DTSTAMP:20260419T202131
CREATED:20210518T224448Z
LAST-MODIFIED:20210518T224612Z
UID:1751-1621065600-1621184400@camplibertymichigan.org
SUMMARY:Turkey Hunting
DESCRIPTION:
URL:https://camplibertymichigan.org/event/turkey-hunting-2/
LOCATION:Michigan
END:VEVENT
BEGIN:VEVENT
DTSTART;TZID=America/Detroit:20210507T080000
DTEND;TZID=America/Detroit:20210509T213000
DTSTAMP:20260419T202131
CREATED:20210324T153703Z
LAST-MODIFIED:20210324T153703Z
UID:1574-1620374400-1620595800@camplibertymichigan.org
SUMMARY:LODGE RESERVED
DESCRIPTION:
URL:https://camplibertymichigan.org/event/lodge-reserved/
LOCATION:Michigan
END:VEVENT
BEGIN:VEVENT
DTSTART;TZID=America/Detroit:20210422T080000
DTEND;TZID=America/Detroit:20210425T170000
DTSTAMP:20260419T202131
CREATED:20210324T153548Z
LAST-MODIFIED:20210324T153548Z
UID:1572-1619078400-1619370000@camplibertymichigan.org
SUMMARY:RESERVED
DESCRIPTION:
URL:https://camplibertymichigan.org/event/reserved/
LOCATION:Michigan
END:VEVENT
BEGIN:VEVENT
DTSTART;TZID=America/Detroit:20210417T080000
DTEND;TZID=America/Detroit:20210420T170000
DTSTAMP:20260419T202131
CREATED:20210403T162831Z
LAST-MODIFIED:20210408T155242Z
UID:1589-1618646400-1618938000@camplibertymichigan.org
SUMMARY:Turkey Hunting
DESCRIPTION:
URL:https://camplibertymichigan.org/event/turkey-hunting/
LOCATION:Michigan
END:VEVENT
BEGIN:VEVENT
DTSTART;TZID=America/Detroit:20210409T080000
DTEND;TZID=America/Detroit:20210411T170000
DTSTAMP:20260419T202131
CREATED:20210324T190415Z
LAST-MODIFIED:20210324T190415Z
UID:1576-1617955200-1618160400@camplibertymichigan.org
SUMMARY:LODGE RESERVED VETERAN STAY
DESCRIPTION:
URL:https://camplibertymichigan.org/event/lodge-reserved-veteran-stay/
LOCATION:Michigan
END:VEVENT
BEGIN:VEVENT
DTSTART;TZID=America/Detroit:20210406T080000
DTEND;TZID=America/Detroit:20210407T170000
DTSTAMP:20260419T202131
CREATED:20210403T162703Z
LAST-MODIFIED:20210403T162703Z
UID:1587-1617696000-1617814800@camplibertymichigan.org
SUMMARY:Veteran
DESCRIPTION:
URL:https://camplibertymichigan.org/event/veteran/
LOCATION:Michigan
END:VEVENT
BEGIN:VEVENT
DTSTART;TZID=America/Detroit:20210402T080000
DTEND;TZID=America/Detroit:20210404T170000
DTSTAMP:20260419T202131
CREATED:20210328T150824Z
LAST-MODIFIED:20210328T150824Z
UID:1578-1617350400-1617555600@camplibertymichigan.org
SUMMARY:Eisenhower Center
DESCRIPTION:
URL:https://camplibertymichigan.org/event/eisenhower-center/
LOCATION:Michigan
END:VEVENT
BEGIN:VEVENT
DTSTART;TZID=America/New_York:20210327T080000
DTEND;TZID=America/New_York:20210328T170000
DTSTAMP:20260419T202131
CREATED:20210117T192821Z
LAST-MODIFIED:20210117T192821Z
UID:1533-1616832000-1616950800@camplibertymichigan.org
SUMMARY:Warriors and Care Givers
DESCRIPTION:
URL:https://camplibertymichigan.org/event/warriors-and-care-givers-2/
LOCATION:Michigan
END:VEVENT
BEGIN:VEVENT
DTSTART;TZID=America/New_York:20210307T080000
DTEND;TZID=America/New_York:20210307T170000
DTSTAMP:20260419T202131
CREATED:20210220T202546Z
LAST-MODIFIED:20210220T202546Z
UID:1540-1615104000-1615136400@camplibertymichigan.org
SUMMARY:Larry
DESCRIPTION:
URL:https://camplibertymichigan.org/event/larry-2/
LOCATION:Michigan
END:VEVENT
BEGIN:VEVENT
DTSTART;TZID=America/New_York:20210219T080000
DTEND;TZID=America/New_York:20210221T170000
DTSTAMP:20260419T202131
CREATED:20210117T192731Z
LAST-MODIFIED:20210117T192731Z
UID:1531-1613721600-1613926800@camplibertymichigan.org
SUMMARY:Warriors and Care Givers
DESCRIPTION:
URL:https://camplibertymichigan.org/event/warriors-and-care-givers/
LOCATION:Michigan
END:VEVENT
BEGIN:VEVENT
DTSTART;TZID=America/New_York:20210206T080000
DTEND;TZID=America/New_York:20210207T170000
DTSTAMP:20260419T202131
CREATED:20210125T145942Z
LAST-MODIFIED:20210125T145942Z
UID:1535-1612598400-1612717200@camplibertymichigan.org
SUMMARY:Warriors and Caregivers
DESCRIPTION:
URL:https://camplibertymichigan.org/event/warriors-and-caregivers/
LOCATION:Michigan
END:VEVENT
END:VCALENDAR