BEGIN:VCALENDAR
VERSION:2.0
PRODID:-//Camp Liberty - ECPv6.15.20//NONSGML v1.0//EN
CALSCALE:GREGORIAN
METHOD:PUBLISH
X-ORIGINAL-URL:https://camplibertymichigan.org
X-WR-CALDESC:Events for Camp Liberty
REFRESH-INTERVAL;VALUE=DURATION:PT1H
X-Robots-Tag:noindex
X-PUBLISHED-TTL:PT1H
BEGIN:VTIMEZONE
TZID:America/Detroit
BEGIN:DAYLIGHT
TZOFFSETFROM:-0500
TZOFFSETTO:-0400
TZNAME:EDT
DTSTART:20250309T070000
END:DAYLIGHT
BEGIN:STANDARD
TZOFFSETFROM:-0400
TZOFFSETTO:-0500
TZNAME:EST
DTSTART:20251102T060000
END:STANDARD
BEGIN:DAYLIGHT
TZOFFSETFROM:-0500
TZOFFSETTO:-0400
TZNAME:EDT
DTSTART:20260308T070000
END:DAYLIGHT
BEGIN:STANDARD
TZOFFSETFROM:-0400
TZOFFSETTO:-0500
TZNAME:EST
DTSTART:20261101T060000
END:STANDARD
BEGIN:DAYLIGHT
TZOFFSETFROM:-0500
TZOFFSETTO:-0400
TZNAME:EDT
DTSTART:20270314T070000
END:DAYLIGHT
BEGIN:STANDARD
TZOFFSETFROM:-0400
TZOFFSETTO:-0500
TZNAME:EST
DTSTART:20271107T060000
END:STANDARD
END:VTIMEZONE
BEGIN:VEVENT
DTSTART;TZID=America/Detroit:20260315T110000
DTEND;TZID=America/Detroit:20260315T140000
DTSTAMP:20260419T162646
CREATED:20260119T194730Z
LAST-MODIFIED:20260119T194730Z
UID:3395-1773572400-1773583200@camplibertymichigan.org
SUMMARY:Camp Liberty Open House and Volunteer Appreciation Luncheon
DESCRIPTION:Please join us at Camp Liberty\,  7044 Kappler Dr Brooklyn\, MI for our Open House and Volunteer Appreciation Luncheon March 15\, 11am-2pm. \nPlease complete RSVP here  https://forms.gle/ArV2LrmbLJPa5cE27\n\n\nThis is open to everyone.  You do not need to be a Veteran or First Responder to attend.
URL:https://camplibertymichigan.org/event/camp-liberty-open-house-and-volunteer-appreciation-luncheon/
LOCATION:Michigan
END:VEVENT
END:VCALENDAR